BEGIN:VCALENDAR
VERSION:2.0
PRODID:-// - ECPv6.15.20//NONSGML v1.0//EN
CALSCALE:GREGORIAN
METHOD:PUBLISH
X-ORIGINAL-URL:https://addisonart.com
X-WR-CALDESC:Events for 
REFRESH-INTERVAL;VALUE=DURATION:PT1H
X-Robots-Tag:noindex
X-PUBLISHED-TTL:PT1H
BEGIN:VTIMEZONE
TZID:America/New_York
BEGIN:DAYLIGHT
TZOFFSETFROM:-0500
TZOFFSETTO:-0400
TZNAME:EDT
DTSTART:20250309T070000
END:DAYLIGHT
BEGIN:STANDARD
TZOFFSETFROM:-0400
TZOFFSETTO:-0500
TZNAME:EST
DTSTART:20251102T060000
END:STANDARD
BEGIN:DAYLIGHT
TZOFFSETFROM:-0500
TZOFFSETTO:-0400
TZNAME:EDT
DTSTART:20260308T070000
END:DAYLIGHT
BEGIN:STANDARD
TZOFFSETFROM:-0400
TZOFFSETTO:-0500
TZNAME:EST
DTSTART:20261101T060000
END:STANDARD
BEGIN:DAYLIGHT
TZOFFSETFROM:-0500
TZOFFSETTO:-0400
TZNAME:EDT
DTSTART:20270314T070000
END:DAYLIGHT
BEGIN:STANDARD
TZOFFSETFROM:-0400
TZOFFSETTO:-0500
TZNAME:EST
DTSTART:20271107T060000
END:STANDARD
END:VTIMEZONE
BEGIN:VEVENT
DTSTART;TZID=America/New_York:20260808T160000
DTEND;TZID=America/New_York:20260808T190000
DTSTAMP:20260422T063220
CREATED:20260331T192622Z
LAST-MODIFIED:20260331T192622Z
UID:23714-1786204800-1786215600@addisonart.com
SUMMARY:Luminous Places: Jonathan McPhillips One Man Show
DESCRIPTION:Demonstration at 4:00\, reception 5:00 to 7:00Music by Cape favorite Sarah Burrill\nThese paintings are inspired by explorations on the Outer Cape\, where the changing light and landscape offer unique opportunities for artistic exploration. Many began as plein-air studies of the harbors\, villages\, and expansive shorelines. Working outdoors allows McPhillips to respond directly to the shifting weather and tide. He continues from those first observations to create his finished works. According to Jonathan\, “Allowing for deeper consideration and reflection\, I can let a group of inspirations grow together and form their stories. This process helps me to honor the light\, atmosphere\, and history of the places we cherish.”\n\nJonathan McPhillips\, a cum laude graduate of Connecticut College with a BFA in Fine Art\, celebrates the coastal splendor of New England. Equally adept in the studio or on location\, Jonathan’s work encompasses harbors\, beaches\, vessels\, and the distinct architecture of the coastal marine environment.\nWith an impressive list of awards and accomplishments\, Jonathan’s artistry has garnered national and international recognition. His work has been showcased in various U.S. embassies through the “Art in Embassies” program by the U.S. Department of State. As an esteemed member of various professional art organizations\, including the Providence Art Club\, The Salmagundi Club\, NY\, and the American Impressionists Society\, Jonathan continues to evolve and inspire\, bringing to life the allure of coastal New England.
URL:https://addisonart.com/event/luminous-places-jonathan-mcphillips-one-man-show/
CATEGORIES:After Hopper,Demonstrations,Openings
ATTACH;FMTTYPE=image/jpeg:https://addisonart.com/wp-content/uploads/2026/03/mcphillips-working-harbor-oil-9x12-1700-scaled.jpg
END:VEVENT
END:VCALENDAR